BEGIN:VCALENDAR
VERSION:2.0
PRODID:-//FWG Parkstein - ECPv6.15.20//NONSGML v1.0//EN
CALSCALE:GREGORIAN
METHOD:PUBLISH
X-WR-CALNAME:FWG Parkstein
X-ORIGINAL-URL:https://fwg-parkstein.de
X-WR-CALDESC:Veranstaltungen für FWG Parkstein
REFRESH-INTERVAL;VALUE=DURATION:PT1H
X-Robots-Tag:noindex
X-PUBLISHED-TTL:PT1H
BEGIN:VTIMEZONE
TZID:Europe/Berlin
BEGIN:DAYLIGHT
TZOFFSETFROM:+0100
TZOFFSETTO:+0200
TZNAME:CEST
DTSTART:20250330T010000
END:DAYLIGHT
BEGIN:STANDARD
TZOFFSETFROM:+0200
TZOFFSETTO:+0100
TZNAME:CET
DTSTART:20251026T010000
END:STANDARD
BEGIN:DAYLIGHT
TZOFFSETFROM:+0100
TZOFFSETTO:+0200
TZNAME:CEST
DTSTART:20260329T010000
END:DAYLIGHT
BEGIN:STANDARD
TZOFFSETFROM:+0200
TZOFFSETTO:+0100
TZNAME:CET
DTSTART:20261025T010000
END:STANDARD
BEGIN:DAYLIGHT
TZOFFSETFROM:+0100
TZOFFSETTO:+0200
TZNAME:CEST
DTSTART:20270328T010000
END:DAYLIGHT
BEGIN:STANDARD
TZOFFSETFROM:+0200
TZOFFSETTO:+0100
TZNAME:CET
DTSTART:20271031T010000
END:STANDARD
END:VTIMEZONE
BEGIN:VEVENT
DTSTART;TZID=Europe/Berlin:20260206T193000
DTEND;TZID=Europe/Berlin:20260206T213000
DTSTAMP:20260420T163822
CREATED:20251030T220147Z
LAST-MODIFIED:20251030T220207Z
UID:777-1770406200-1770413400@fwg-parkstein.de
SUMMARY:Benefizkonzert
DESCRIPTION:
URL:https://fwg-parkstein.de/event/benefizkonzert/
LOCATION:Rathaussaal\, Parkstein\, 92711\, Germany
END:VEVENT
BEGIN:VEVENT
DTSTART;TZID=Europe/Berlin:20260213T180000
DTEND;TZID=Europe/Berlin:20260213T220000
DTSTAMP:20260420T163822
CREATED:20251030T220413Z
LAST-MODIFIED:20260205T072148Z
UID:780-1771005600-1771020000@fwg-parkstein.de
SUMMARY:wird verschoben: Winterwanderung 2026
DESCRIPTION:Die Winderwanderung der FWG in die Öd findet nicht\, wie angekündigt\, am 13.02.2026 statt\, sondern wird verschoben. \nEin Ersatztermin wird demnächst bekannt gegeben.
URL:https://fwg-parkstein.de/event/winterwanderung/
LOCATION:Kreuzung Schwander Str. / Pressather Str.\, Kreuzung Schwander Str. / Pressather Str.\, Parkstein\, Bayern\, 92711\, Germany
END:VEVENT
END:VCALENDAR