BEGIN:VCALENDAR
VERSION:2.0
PRODID:-//FWG Parkstein - ECPv6.15.20//NONSGML v1.0//EN
CALSCALE:GREGORIAN
METHOD:PUBLISH
X-WR-CALNAME:FWG Parkstein
X-ORIGINAL-URL:https://fwg-parkstein.de
X-WR-CALDESC:Veranstaltungen für FWG Parkstein
REFRESH-INTERVAL;VALUE=DURATION:PT1H
X-Robots-Tag:noindex
X-PUBLISHED-TTL:PT1H
BEGIN:VTIMEZONE
TZID:Europe/Berlin
BEGIN:DAYLIGHT
TZOFFSETFROM:+0100
TZOFFSETTO:+0200
TZNAME:CEST
DTSTART:20240331T010000
END:DAYLIGHT
BEGIN:STANDARD
TZOFFSETFROM:+0200
TZOFFSETTO:+0100
TZNAME:CET
DTSTART:20241027T010000
END:STANDARD
BEGIN:DAYLIGHT
TZOFFSETFROM:+0100
TZOFFSETTO:+0200
TZNAME:CEST
DTSTART:20250330T010000
END:DAYLIGHT
BEGIN:STANDARD
TZOFFSETFROM:+0200
TZOFFSETTO:+0100
TZNAME:CET
DTSTART:20251026T010000
END:STANDARD
BEGIN:DAYLIGHT
TZOFFSETFROM:+0100
TZOFFSETTO:+0200
TZNAME:CEST
DTSTART:20260329T010000
END:DAYLIGHT
BEGIN:STANDARD
TZOFFSETFROM:+0200
TZOFFSETTO:+0100
TZNAME:CET
DTSTART:20261025T010000
END:STANDARD
END:VTIMEZONE
BEGIN:VEVENT
DTSTART;TZID=Europe/Berlin:20251114T200000
DTEND;TZID=Europe/Berlin:20251114T200000
DTSTAMP:20260420T212356
CREATED:20250223T154209Z
LAST-MODIFIED:20251030T213553Z
UID:675-1763150400-1763150400@fwg-parkstein.de
SUMMARY:FWG Preisschafkopf 2025
DESCRIPTION:Der Preisschafkopf der FWG Parkstein findet am 14.11.2025 um 20:00 Uhr im Parksteiner Hof (Zetzl) statt. \n \n 
URL:https://fwg-parkstein.de/event/fwg-preisschafkopf-2025/
LOCATION:Parksteiner Hof (Zetzl)\, Basaltstr. 10\, Parkstein\, Bayern\, 92711\, Germany
END:VEVENT
BEGIN:VEVENT
DTSTART;TZID=Europe/Berlin:20251127T190000
DTEND;TZID=Europe/Berlin:20251127T190000
DTSTAMP:20260420T212356
CREATED:20250223T154357Z
LAST-MODIFIED:20250223T154357Z
UID:677-1764270000-1764270000@fwg-parkstein.de
SUMMARY:Adventskranzbinden 2025
DESCRIPTION:Das Adventskranzbinden findet am 27.11.2025 um 19:00 Uhr im Parksteiner Hof (Zetzl) statt.
URL:https://fwg-parkstein.de/event/adventskranzbinden-2025/
LOCATION:Parksteiner Hof (Zetzl)\, Basaltstr. 10\, Parkstein\, Bayern\, 92711\, Germany
END:VEVENT
END:VCALENDAR