BEGIN:VCALENDAR
VERSION:2.0
PRODID:-//FWG Parkstein - ECPv6.15.20//NONSGML v1.0//EN
CALSCALE:GREGORIAN
METHOD:PUBLISH
X-ORIGINAL-URL:https://fwg-parkstein.de
X-WR-CALDESC:Veranstaltungen für FWG Parkstein
REFRESH-INTERVAL;VALUE=DURATION:PT1H
X-Robots-Tag:noindex
X-PUBLISHED-TTL:PT1H
BEGIN:VTIMEZONE
TZID:Europe/Berlin
BEGIN:DAYLIGHT
TZOFFSETFROM:+0100
TZOFFSETTO:+0200
TZNAME:CEST
DTSTART:20230326T010000
END:DAYLIGHT
BEGIN:STANDARD
TZOFFSETFROM:+0200
TZOFFSETTO:+0100
TZNAME:CET
DTSTART:20231029T010000
END:STANDARD
BEGIN:DAYLIGHT
TZOFFSETFROM:+0100
TZOFFSETTO:+0200
TZNAME:CEST
DTSTART:20240331T010000
END:DAYLIGHT
BEGIN:STANDARD
TZOFFSETFROM:+0200
TZOFFSETTO:+0100
TZNAME:CET
DTSTART:20241027T010000
END:STANDARD
BEGIN:DAYLIGHT
TZOFFSETFROM:+0100
TZOFFSETTO:+0200
TZNAME:CEST
DTSTART:20250330T010000
END:DAYLIGHT
BEGIN:STANDARD
TZOFFSETFROM:+0200
TZOFFSETTO:+0100
TZNAME:CET
DTSTART:20251026T010000
END:STANDARD
END:VTIMEZONE
BEGIN:VEVENT
DTSTART;TZID=Europe/Berlin:20241115T200000
DTEND;TZID=Europe/Berlin:20241115T230000
DTSTAMP:20260423T223713
CREATED:20241012T180824Z
LAST-MODIFIED:20241027T201515Z
UID:634-1731700800-1731711600@fwg-parkstein.de
SUMMARY:FWG Preisschafkopf 2024
DESCRIPTION:
URL:https://fwg-parkstein.de/event/fwg-preisschafkopf-2024/
LOCATION:Parksteiner Hof (Zetzl)\, Basaltstr. 10\, Parkstein\, Bayern\, 92711\, Germany
END:VEVENT
BEGIN:VEVENT
DTSTART;TZID=Europe/Berlin:20241128T190000
DTEND;TZID=Europe/Berlin:20241128T220000
DTSTAMP:20260423T223713
CREATED:20241012T181529Z
LAST-MODIFIED:20241012T181529Z
UID:640-1732820400-1732831200@fwg-parkstein.de
SUMMARY:Adventskranzbinden 2024
DESCRIPTION:Bild folgt 🙂
URL:https://fwg-parkstein.de/event/adventskranzbinden-2024/
LOCATION:Parksteiner Hof (Zetzl)\, Basaltstr. 10\, Parkstein\, Bayern\, 92711\, Germany
END:VEVENT
END:VCALENDAR