BEGIN:VCALENDAR
VERSION:2.0
PRODID:-//FWG Parkstein - ECPv6.15.20//NONSGML v1.0//EN
CALSCALE:GREGORIAN
METHOD:PUBLISH
X-ORIGINAL-URL:https://fwg-parkstein.de
X-WR-CALDESC:Veranstaltungen für FWG Parkstein
REFRESH-INTERVAL;VALUE=DURATION:PT1H
X-Robots-Tag:noindex
X-PUBLISHED-TTL:PT1H
BEGIN:VTIMEZONE
TZID:Europe/Berlin
BEGIN:DAYLIGHT
TZOFFSETFROM:+0100
TZOFFSETTO:+0200
TZNAME:CEST
DTSTART:20240331T010000
END:DAYLIGHT
BEGIN:STANDARD
TZOFFSETFROM:+0200
TZOFFSETTO:+0100
TZNAME:CET
DTSTART:20241027T010000
END:STANDARD
BEGIN:DAYLIGHT
TZOFFSETFROM:+0100
TZOFFSETTO:+0200
TZNAME:CEST
DTSTART:20250330T010000
END:DAYLIGHT
BEGIN:STANDARD
TZOFFSETFROM:+0200
TZOFFSETTO:+0100
TZNAME:CET
DTSTART:20251026T010000
END:STANDARD
BEGIN:DAYLIGHT
TZOFFSETFROM:+0100
TZOFFSETTO:+0200
TZNAME:CEST
DTSTART:20260329T010000
END:DAYLIGHT
BEGIN:STANDARD
TZOFFSETFROM:+0200
TZOFFSETTO:+0100
TZNAME:CET
DTSTART:20261025T010000
END:STANDARD
END:VTIMEZONE
BEGIN:VEVENT
DTSTART;TZID=Europe/Berlin:20250228T180000
DTEND;TZID=Europe/Berlin:20250228T220000
DTSTAMP:20260423T180659
CREATED:20250223T152857Z
LAST-MODIFIED:20250223T153908Z
UID:665-1740765600-1740780000@fwg-parkstein.de
SUMMARY:Winterwanderung zum Leinerbauern 2025
DESCRIPTION:Treffpunkt: Kreuzung Schwander Str. / Pressather Str.
URL:https://fwg-parkstein.de/event/winterwanderung-zum-leinerbauern-2025/
LOCATION:Kreuzung Schwander Str. / Pressather Str.\, Kreuzung Schwander Str. / Pressather Str.\, Parkstein\, Bayern\, 92711\, Germany
END:VEVENT
END:VCALENDAR